BEGIN:VCALENDAR
VERSION:2.0
PRODID:-//St.John Chrysostom - ECPv6.15.20//NONSGML v1.0//EN
CALSCALE:GREGORIAN
METHOD:PUBLISH
X-ORIGINAL-URL:https://stjcaoc.org
X-WR-CALDESC:Events for St.John Chrysostom
REFRESH-INTERVAL;VALUE=DURATION:PT1H
X-Robots-Tag:noindex
X-PUBLISHED-TTL:PT1H
BEGIN:VTIMEZONE
TZID:America/New_York
BEGIN:DAYLIGHT
TZOFFSETFROM:-0500
TZOFFSETTO:-0400
TZNAME:EDT
DTSTART:20240310T070000
END:DAYLIGHT
BEGIN:STANDARD
TZOFFSETFROM:-0400
TZOFFSETTO:-0500
TZNAME:EST
DTSTART:20241103T060000
END:STANDARD
BEGIN:DAYLIGHT
TZOFFSETFROM:-0500
TZOFFSETTO:-0400
TZNAME:EDT
DTSTART:20250309T070000
END:DAYLIGHT
BEGIN:STANDARD
TZOFFSETFROM:-0400
TZOFFSETTO:-0500
TZNAME:EST
DTSTART:20251102T060000
END:STANDARD
BEGIN:DAYLIGHT
TZOFFSETFROM:-0500
TZOFFSETTO:-0400
TZNAME:EDT
DTSTART:20260308T070000
END:DAYLIGHT
BEGIN:STANDARD
TZOFFSETFROM:-0400
TZOFFSETTO:-0500
TZNAME:EST
DTSTART:20261101T060000
END:STANDARD
END:VTIMEZONE
BEGIN:VEVENT
DTSTART;TZID=America/New_York:20250305T180000
DTEND;TZID=America/New_York:20250305T190000
DTSTAMP:20260423T144943
CREATED:20250301T165920Z
LAST-MODIFIED:20250301T165920Z
UID:9670-1741197600-1741201200@stjcaoc.org
SUMMARY:Presanctified Liturgy
DESCRIPTION:These will be on March 5\, 12\, 19\, 26\, April 2  and April 9 at 6pm
URL:https://stjcaoc.org/event/presanctified-liturgy/
LOCATION:church
END:VEVENT
BEGIN:VEVENT
DTSTART;TZID=America/New_York:20250305T193000
DTEND;TZID=America/New_York:20250305T203000
DTSTAMP:20260423T144943
CREATED:20250301T165802Z
LAST-MODIFIED:20250301T165802Z
UID:9668-1741203000-1741206600@stjcaoc.org
SUMMARY:Parish Council meeting via ZOOM
DESCRIPTION:Meeting at 7pm.  Follow the zoom link send via e-mail.
URL:https://stjcaoc.org/event/parish-council-meeting-via-zoom/
LOCATION:zoom
END:VEVENT
END:VCALENDAR