BEGIN:VCALENDAR
VERSION:2.0
PRODID:-//St.John Chrysostom - ECPv6.15.20//NONSGML v1.0//EN
CALSCALE:GREGORIAN
METHOD:PUBLISH
X-ORIGINAL-URL:https://stjcaoc.org
X-WR-CALDESC:Events for St.John Chrysostom
REFRESH-INTERVAL;VALUE=DURATION:PT1H
X-Robots-Tag:noindex
X-PUBLISHED-TTL:PT1H
BEGIN:VTIMEZONE
TZID:America/New_York
BEGIN:DAYLIGHT
TZOFFSETFROM:-0500
TZOFFSETTO:-0400
TZNAME:EDT
DTSTART:20240310T070000
END:DAYLIGHT
BEGIN:STANDARD
TZOFFSETFROM:-0400
TZOFFSETTO:-0500
TZNAME:EST
DTSTART:20241103T060000
END:STANDARD
BEGIN:DAYLIGHT
TZOFFSETFROM:-0500
TZOFFSETTO:-0400
TZNAME:EDT
DTSTART:20250309T070000
END:DAYLIGHT
BEGIN:STANDARD
TZOFFSETFROM:-0400
TZOFFSETTO:-0500
TZNAME:EST
DTSTART:20251102T060000
END:STANDARD
BEGIN:DAYLIGHT
TZOFFSETFROM:-0500
TZOFFSETTO:-0400
TZNAME:EDT
DTSTART:20260308T070000
END:DAYLIGHT
BEGIN:STANDARD
TZOFFSETFROM:-0400
TZOFFSETTO:-0500
TZNAME:EST
DTSTART:20261101T060000
END:STANDARD
END:VTIMEZONE
BEGIN:VEVENT
DTSTART;TZID=America/New_York:20251004T170000
DTEND;TZID=America/New_York:20251004T180000
DTSTAMP:20260422T234330
CREATED:20250910T152144Z
LAST-MODIFIED:20250910T152144Z
UID:10823-1759597200-1759600800@stjcaoc.org
SUMMARY:Vespers 5:00pm
DESCRIPTION:
URL:https://stjcaoc.org/event/vespers-500pm/
LOCATION:church
END:VEVENT
BEGIN:VEVENT
DTSTART;TZID=America/New_York:20251005T100000
DTEND;TZID=America/New_York:20251005T110000
DTSTAMP:20260422T234330
CREATED:20250910T152327Z
LAST-MODIFIED:20250910T152327Z
UID:10825-1759658400-1759662000@stjcaoc.org
SUMMARY:3-yr Memorial Jonathan Rhodes
DESCRIPTION:
URL:https://stjcaoc.org/event/3-yr-memorial-jonathan-rhodes/
LOCATION:church
END:VEVENT
BEGIN:VEVENT
DTSTART;TZID=America/New_York:20251025T100000
DTEND;TZID=America/New_York:20251025T110000
DTSTAMP:20260422T234330
CREATED:20251022T164348Z
LAST-MODIFIED:20251022T164348Z
UID:10858-1761386400-1761390000@stjcaoc.org
SUMMARY:Baptism of Talulah Rose Krygier 10:00am daughter of Kristin Cosmo & Stephan Krygier
DESCRIPTION:
URL:https://stjcaoc.org/event/baptism-of-talulah-rose-krygier-1000am-daughter-of-kristin-cosmo-stephan-krygier/
LOCATION:church
END:VEVENT
BEGIN:VEVENT
DTSTART;TZID=America/New_York:20251025T170000
DTEND;TZID=America/New_York:20251025T180000
DTSTAMP:20260422T234330
CREATED:20251022T164444Z
LAST-MODIFIED:20251022T164444Z
UID:10860-1761411600-1761415200@stjcaoc.org
SUMMARY:Vespers
DESCRIPTION:
URL:https://stjcaoc.org/event/vespers-2/
LOCATION:church
END:VEVENT
BEGIN:VEVENT
DTSTART;TZID=America/New_York:20251026T110000
DTEND;TZID=America/New_York:20251026T120000
DTSTAMP:20260422T234330
CREATED:20251022T164556Z
LAST-MODIFIED:20251022T164556Z
UID:10862-1761476400-1761480000@stjcaoc.org
SUMMARY:Halloween Party during coffee hour
DESCRIPTION:
URL:https://stjcaoc.org/event/halloween-party-during-coffee-hour/
LOCATION:Church Hall
END:VEVENT
END:VCALENDAR