BEGIN:VCALENDAR
VERSION:2.0
PRODID:-//St.John Chrysostom - ECPv6.15.20//NONSGML v1.0//EN
CALSCALE:GREGORIAN
METHOD:PUBLISH
X-WR-CALNAME:St.John Chrysostom
X-ORIGINAL-URL:https://stjcaoc.org
X-WR-CALDESC:Events for St.John Chrysostom
REFRESH-INTERVAL;VALUE=DURATION:PT1H
X-Robots-Tag:noindex
X-PUBLISHED-TTL:PT1H
BEGIN:VTIMEZONE
TZID:America/New_York
BEGIN:DAYLIGHT
TZOFFSETFROM:-0500
TZOFFSETTO:-0400
TZNAME:EDT
DTSTART:20250309T070000
END:DAYLIGHT
BEGIN:STANDARD
TZOFFSETFROM:-0400
TZOFFSETTO:-0500
TZNAME:EST
DTSTART:20251102T060000
END:STANDARD
BEGIN:DAYLIGHT
TZOFFSETFROM:-0500
TZOFFSETTO:-0400
TZNAME:EDT
DTSTART:20260308T070000
END:DAYLIGHT
BEGIN:STANDARD
TZOFFSETFROM:-0400
TZOFFSETTO:-0500
TZNAME:EST
DTSTART:20261101T060000
END:STANDARD
BEGIN:DAYLIGHT
TZOFFSETFROM:-0500
TZOFFSETTO:-0400
TZNAME:EDT
DTSTART:20270314T070000
END:DAYLIGHT
BEGIN:STANDARD
TZOFFSETFROM:-0400
TZOFFSETTO:-0500
TZNAME:EST
DTSTART:20271107T060000
END:STANDARD
END:VTIMEZONE
BEGIN:VEVENT
DTSTART;TZID=America/New_York:20260103T170000
DTEND;TZID=America/New_York:20260103T180000
DTSTAMP:20260422T184307
CREATED:20260102T235212Z
LAST-MODIFIED:20260102T235212Z
UID:11129-1767459600-1767463200@stjcaoc.org
SUMMARY:Vespers
DESCRIPTION:
URL:https://stjcaoc.org/event/vespers-3/
LOCATION:church
END:VEVENT
BEGIN:VEVENT
DTSTART;TZID=America/New_York:20260104T100000
DTEND;TZID=America/New_York:20260104T113000
DTSTAMP:20260422T184307
CREATED:20260102T235302Z
LAST-MODIFIED:20260102T235302Z
UID:11131-1767520800-1767526200@stjcaoc.org
SUMMARY:Blessing of the water
DESCRIPTION:
URL:https://stjcaoc.org/event/blessing-of-the-water-2/
LOCATION:church
END:VEVENT
BEGIN:VEVENT
DTSTART;TZID=America/New_York:20260104T100000
DTEND;TZID=America/New_York:20260104T170000
DTSTAMP:20260422T184307
CREATED:20251224T003935Z
LAST-MODIFIED:20251224T003935Z
UID:11066-1767520800-1767546000@stjcaoc.org
SUMMARY:Blessing of the water and Part 1 of the Icon Auction during coffee hour
DESCRIPTION:
URL:https://stjcaoc.org/event/blessing-of-the-water-and-part-1-of-the-icon-auction-during-coffee-hour/
LOCATION:church
END:VEVENT
BEGIN:VEVENT
DTSTART;TZID=America/New_York:20260105T180000
DTEND;TZID=America/New_York:20260105T190000
DTSTAMP:20260422T184307
CREATED:20251224T004017Z
LAST-MODIFIED:20251224T004017Z
UID:11068-1767636000-1767639600@stjcaoc.org
SUMMARY:Vesperal Liturgy 6 pm Theophany/Epiphany
DESCRIPTION:
URL:https://stjcaoc.org/event/vesperal-liturgy-6-pm-theophany-epiphany/
LOCATION:church
END:VEVENT
BEGIN:VEVENT
DTSTART;TZID=America/New_York:20260105T180000
DTEND;TZID=America/New_York:20260105T190000
DTSTAMP:20260422T184307
CREATED:20260102T235351Z
LAST-MODIFIED:20260102T235351Z
UID:11133-1767636000-1767639600@stjcaoc.org
SUMMARY:Vesperal Liturgy
DESCRIPTION:
URL:https://stjcaoc.org/event/vesperal-liturgy/
LOCATION:church
END:VEVENT
BEGIN:VEVENT
DTSTART;TZID=America/New_York:20260111T100000
DTEND;TZID=America/New_York:20260111T133000
DTSTAMP:20260422T184307
CREATED:20251224T004100Z
LAST-MODIFIED:20251224T004100Z
UID:11070-1768125600-1768138200@stjcaoc.org
SUMMARY:Part 2 of the Icon Auction during coffee hour
DESCRIPTION:
URL:https://stjcaoc.org/event/part-2-of-the-icon-auction-during-coffee-hour/
LOCATION:Church Hall
END:VEVENT
BEGIN:VEVENT
DTSTART;TZID=America/New_York:20260112T193000
DTEND;TZID=America/New_York:20260112T210000
DTSTAMP:20260422T184307
CREATED:20251224T004142Z
LAST-MODIFIED:20251224T004142Z
UID:11072-1768246200-1768251600@stjcaoc.org
SUMMARY:Parish Council meeting via ZOOM 7:30 pm
DESCRIPTION:
URL:https://stjcaoc.org/event/parish-council-meeting-via-zoom-730-pm/
LOCATION:zoom
END:VEVENT
BEGIN:VEVENT
DTSTART;TZID=America/New_York:20260112T193000
DTEND;TZID=America/New_York:20260112T213000
DTSTAMP:20260422T184307
CREATED:20260102T235531Z
LAST-MODIFIED:20260102T235531Z
UID:11137-1768246200-1768253400@stjcaoc.org
SUMMARY:Parish Council monthly meeting
DESCRIPTION:
URL:https://stjcaoc.org/event/parish-council-monthly-meeting-2/
LOCATION:zoom
END:VEVENT
BEGIN:VEVENT
DTSTART;TZID=America/New_York:20260124T160000
DTEND;TZID=America/New_York:20260124T180000
DTSTAMP:20260422T184307
CREATED:20260124T042900Z
LAST-MODIFIED:20260124T042900Z
UID:11416-1769270400-1769277600@stjcaoc.org
SUMMARY:Vespers and Liturgy
DESCRIPTION:Due to the forecasted snow storm beginning late Saturday night\, the Divine Liturgy scheduled for Sunday\, January 25\, 2026 at 10:00 am has been changed to Saturday\, January 24\, 2026 at 5:00 pm.  Vespers will be at 4pm on Saturday. \nNO LITURGY SUNDAY JANUARY 25\, 2026.
URL:https://stjcaoc.org/event/vespers-and-liturgy/
END:VEVENT
END:VCALENDAR